BEGIN:VCALENDAR
VERSION:2.0
PRODID:-//urwahl3000//gruene-usingen.de//DE
CALSCALE:GREGORIAN
BEGIN:VEVENT
DTSTART:20260825T183000
DTEND:20260825T203000
LOCATION:Marktplatz 23 Usingen
DTSTAMP:20260825T183000
SUMMARY:Fraktionssitzung
URL;VALUE=URI:https://gruene-usingen.de/termin/fraktionssitzung-13/
UID:20260825T183000-20260825T183000-20260825T203000
END:VEVENT
END:VCALENDAR